BEGIN:VCALENDAR
VERSION:2.0
PRODID:-//OmniMagnetCalendar//EN
BEGIN:VEVENT
DTSTAMP:20190625T195740Z
STATUS:CONFIRMED
UID:dc.clubs.harvard.edu123
DTSTART:20260507T213027Z
DTEND:20260507T233027Z
LOCATION:Reservoir Center, 301 Water Street SE, USA,
SUMMARY:Bridge From Saigon: A Viet-American Memoir of Family and Mind
DESCRIPTION:Books&Brews with Dr. Hoangmai Pham
BEGIN:VALARM
TRIGGER:-PT15M
ACTION:DISPLAY
END:VALARM
TRANSP:OPAQUE
END:VEVENT
END:VCALENDAR
