BEGIN:VCALENDAR
VERSION:2.0
PRODID:-//OmniMagnetCalendar//EN
BEGIN:VEVENT
DTSTAMP:20190625T195740Z
STATUS:CONFIRMED
UID:dc.clubs.harvard.edu124
DTSTART:20260508T223055Z
DTEND:20260509T003055Z
LOCATION:Hogan Lovells, 555 13th St NW, Washington, DC, DC, 20004,
SUMMARY:The Rebel Reef
DESCRIPTION:Multimedia Concert Experience with Chad Cannon (AB ’11; Juilliard ’13)
BEGIN:VALARM
TRIGGER:-PT15M
ACTION:DISPLAY
END:VALARM
TRANSP:OPAQUE
END:VEVENT
END:VCALENDAR
