BEGIN:VCALENDAR
VERSION:2.0
PRODID:-//OmniMagnetCalendar//EN
BEGIN:VEVENT
DTSTAMP:20190625T195740Z
STATUS:CONFIRMED
UID:dc.clubs.harvard.edu126
DTSTART:20260509T143043Z
DTEND:20260509T163043Z
LOCATION:Valley Brook Tea, 2015 Massachusetts Ave NW, Washingon, DC, 20036,
SUMMARY:May Chinese Table
DESCRIPTION:
BEGIN:VALARM
TRIGGER:-PT15M
ACTION:DISPLAY
END:VALARM
TRANSP:OPAQUE
END:VEVENT
END:VCALENDAR
